BEGIN:VCALENDAR
VERSION:2.0
PRODID:-//Wind over Fire Healing Arts Center - ECPv5.1.0//NONSGML v1.0//EN
CALSCALE:GREGORIAN
METHOD:PUBLISH
X-WR-CALNAME:Wind over Fire Healing Arts Center
X-ORIGINAL-URL:http://www.windoverfire.com
X-WR-CALDESC:Events for Wind over Fire Healing Arts Center
BEGIN:VTIMEZONE
TZID:UTC
BEGIN:STANDARD
TZOFFSETFROM:+0000
TZOFFSETTO:+0000
TZNAME:UTC
DTSTART:20130101T000000
END:STANDARD
END:VTIMEZONE
BEGIN:VEVENT
DTSTART;TZID=UTC:20130118T180000
DTEND;TZID=UTC:20130118T203000
DTSTAMP:20260419T173232
CREATED:20121221T044705Z
LAST-MODIFIED:20121221T044728Z
UID:838-1358532000-1358541000@www.windoverfire.com
SUMMARY:The Art of Being\, an Andean Native American Workshop with Craig Hartel
DESCRIPTION:The Art of Being\, an Andean Native American Workshop\nWith Peruvian Shaman Craig Hartel\nJanuary 18th\,  6PM-8:30 PM\nJanuary 19th\, 9AM-9:00 PM\nCost $75.00\nThe Incans were shamanic masters of time\, synchronicity and consciousness. In the new paradigm of the new millennium\, we will be called on to “be” in our world in a very specific manner as any change or shift in this world comes from the inside of each individual. In this 15-hour workshop\, we will be asked to look at ourselves and evaluate who we are\, how we want to be perceived and how we want to “be” affecting those around us so that we may live a full and conscious life. \nWhat to expect at this workshop:\nThe first evening we will learn how to  re-create ourselves.  (Study and take note of the power of our language and that re-creation is recreation; an exercise to recreate yourself.  Then\, the next morning\, we will have a variety of exercises from different cultures to bring you in touch with who you are\, how you perceive and are perceived in this world and to help you BE in this world.  One of the important exercises will be to understand what soul-retrieval is and performing a soul-retrieval journey and in the evening a powerful despacho ceremony to carry you into the rest of 2013!  To learn a little more about the despacho ceremony read: http://home.earthlink.net/~megbeeler/earthcaretakers/id39.html \nCraig will also be available for private 2 hour sessions during the day on Friday the 18th. \nFOR MORE INFORMATION\nCall 507-281-6649\nEmail – mary@windoverfire.com \nWind Over Fire Healing Arts Center\n4902 Wood Lane NW\nRochester\, MN 55901 \n
URL:http://www.windoverfire.com/event/the-art-of-being-an-andean-native-american-workshop-with-craig-hartel/
LOCATION:Wind over Fire Healing Arts Center
END:VEVENT
END:VCALENDAR