BEGIN:VCALENDAR
VERSION:2.0
PRODID:-//Wind over Fire Healing Arts Center - ECPv5.1.0//NONSGML v1.0//EN
CALSCALE:GREGORIAN
METHOD:PUBLISH
X-WR-CALNAME:Wind over Fire Healing Arts Center
X-ORIGINAL-URL:http://www.windoverfire.com
X-WR-CALDESC:Events for Wind over Fire Healing Arts Center
BEGIN:VTIMEZONE
TZID:UTC
BEGIN:STANDARD
TZOFFSETFROM:+0000
TZOFFSETTO:+0000
TZNAME:UTC
DTSTART:20130101T000000
END:STANDARD
END:VTIMEZONE
BEGIN:VEVENT
DTSTART;TZID=UTC:20130105T093000
DTEND;TZID=UTC:20130105T153000
DTSTAMP:20260419T204301
CREATED:20121201T172518Z
LAST-MODIFIED:20121201T172623Z
UID:713-1357378200-1357399800@www.windoverfire.com
SUMMARY:Sacred Women’s Lodge\, Jan. 5 2013
DESCRIPTION:Sacred Women’s Lodge\, co-facilitators: Nita Wolf and Mary Laven\nJanuary 5th 9:30 AM -3:30 PM\nA Native American ritual\, and gathering of women – participants will have an opportunity to deepen their spirituality and self-actualization through various activities such as the “Medicine Wheel” and “Four Directions\,” discussions\, and “fun activities!” Yes\, it can be sacred and fun all on the same day! \nAt this Sacred Women’s Lodge we will be honoring the North.  To the North on the Medicine Wheel is found Wisdom. The Color of the Wisdom of the North is White\, and its Medicine Animal is the Buffalo. \nThis lodge will focus on the freedom of fear.  It will be an opportunity to “lighten-up” as we honor the gifts of winter. There will be a gathering\, name blessing circle\, a soul shaman journey meditation to contact your power animal in the underworld and then travel up to the upper world as well as other activities to stay within the theme! \nCost is $30.00 and registration is required with a 50% non-refundable deposit of $15.00 and a dish to share at lunch break. Call Mary to register at 507.281.6649. \nWhat you may want to bring: \nBring your drums\, rattles\, or any musical instrument you prefer. \nA flowing scarf if you would like \n\nAbout Nita Wolf: Nita started and has continued doing various Sacred Women’s Lodges for more than twelve years in the Twin Cities area. Her education with two different Shamans gave her the training to do the “Medicine Wheel” and “Four Directions” work.  She has led several workshops and classes for men and women on multitude of subjects. She holds a Master’s Degree in Comparative World Religions and is an Ordained Interfaith Minister with Minnesota state credentials.  She is a trained healer in a variety of modalities and provides spiritual counseling services.  She holds certification with the Psychosynthesis Group of MN and is a State Licensed Trainer and Educator and currently works with an E.C.F.E. program.  She is a wife\, mother\, grandmother\, educator\, and world citizen! \n      About Mary Laven: Mary is an intuitive counselor\, medical intuitive\, medium and psychic. She offers insight to aspects that exist beyond the senses and has an ability to perceive what we are unable to; or often validate our own inner-knowing. She offers clarity to our difficult situations reveals obstacles and connects us to our original self. With a better understanding of ourselves and circumstances\, we are better equipped to make adjustments in our life\, shift patterns that are no longer serving and move forward beyond the curiosity\, grief\, confusion\, and emotions to a better life.   Mary has had a life-time of mystical experiences that she brings to workshops and events. She has had a long corporate marketing career and holds a B.S. in Foreign Studies and Languages from American University in Washington\, DC. \n  \n
URL:http://www.windoverfire.com/event/sacred-womens-lodge-jan-5-2013/
LOCATION:Wind over Fire Healing Arts Center\, 4902 Wood Lane NW\, Rochester\, MN\, 55901\, United States
ATTACH;FMTTYPE=image/jpeg:http://www.windoverfire.com/wp-content/uploads/2012/12/womens-lodge.jpg
ORGANIZER;CN="Wind%20over%20Fire%20Healing%20Arts%20Center":MAILTO:mary@windoverfire.com
END:VEVENT
END:VCALENDAR