BEGIN:VCALENDAR
VERSION:2.0
PRODID:-//Wind over Fire Healing Arts Center - ECPv5.1.0//NONSGML v1.0//EN
CALSCALE:GREGORIAN
METHOD:PUBLISH
X-WR-CALNAME:Wind over Fire Healing Arts Center
X-ORIGINAL-URL:http://www.windoverfire.com
X-WR-CALDESC:Events for Wind over Fire Healing Arts Center
BEGIN:VTIMEZONE
TZID:UTC
BEGIN:STANDARD
TZOFFSETFROM:+0000
TZOFFSETTO:+0000
TZNAME:UTC
DTSTART:20130101T000000
END:STANDARD
END:VTIMEZONE
BEGIN:VEVENT
DTSTART;TZID=UTC:20130205T184500
DTEND;TZID=UTC:20130205T210000
DTSTAMP:20260419T143130
CREATED:20130114T000521Z
LAST-MODIFIED:20130129T231716Z
UID:988-1360089900-1360098000@www.windoverfire.com
SUMMARY:Julia Assante - The Last Frontier: Exploring the Afterlife\, The Be Group
DESCRIPTION:Julia Assante – The Last Frontier: Exploring the Afterlife and Transforming Our Fear of Death\n The Be Group\, Feb. 5\n 6:45 PM to 9:00 PM\n$10 fee for this event\nThe Last Frontier is the first critical exploration of that vast\, uncharted\, simply out-of-this-world terrain we enter at death. It draws from consciousness research\, physics\, parapsychology and quantum biology\, from studies in Near Death Experiences and Nearing Death Awareness\, from the records of therapists\, medical personnel and bereavement counselors\, and from accounts of communication with the dead. Its main aim is the release from the fear of death\, a fear that has a stranglehold on us as individuals and as a society. The author also calls for serious further study of the true nature of the afterlife and the normalization of after death communication. \n  \nBiography\nDr. Julia Assante is a rare combination of scholar and mystic. She is an established scholar of the ancient Near East (PhD Columbia University). Yet for over three decades she has also been an active professional intuitive. In her new book\, The Last Frontier\, she combines the insights and methodologies gained from both fields to investigate where we go after we die. \nFrom 1977 to the present Julia has been an active professional psychic and medium. In addition to private sessions\, she has taught workshops on remote viewing\, healing arts and aura reading\, after death communication\, remembering the future and reincarnational recall in the US\, Canada\, Germany\, France and Spain\, and Austria. She has also coached physicists\, medical professionals\, entertainers and athletes to develop specific career-related psychic skills. She believes\, however\, that the real power of good psychic work is not about accurate information. It lies instead in its affect—the spontaneous revelation of a greater reality\, the most important experience a person can have. Nothing brings that closer to home than after death communication. Although it is a great wonder and privilege for Julia to assist the dying\, officiate at funerals and contact the dead for others\, what really changes people\, what really heals and ends grief\, what unveils the truth of immortality is making direct contact themselves. \nIn 1987\, Julia was certified for practicing a uniquely effective type of regression therapy from AAPLE (LA)\, founded by Dr. Morris Netherton\, work she continues today. She has been an ordained minister since 1985 of The New Seminary (NY)\, an Interfaith Seminary founded by Rabbi Joseph Gelberman and Sri Swami Satchidananda\, where she taught for two years. In 1984\, she participated in clinical tests for telepathy at Columbia University\, resulting in accuracy scores high above other professional psychics. Her interest in religious beliefs and so-called magical practices\, which has always been high\, is fed by decades of working alongside shamans\, healers and gurus from non-western traditions as well as academic research of pre- and parabiblical religions (Mesopotamia\, Egypt\, Israel\, Greece and Rome). She is now investigating ways a revolutionary medical device that operates on the level of quantum biology can be adapted to scientifically prove life after death. \n \n  \nJulia Assante\nis currently\nprominently featured\non the the cover of\nEdge Magazine\,\nJanuary 2013. \n  \nFOR MORE INFORMATION\nCall 507-281-6649\nEmail – mary@windoverfire.com \nWind Over Fire Healing Arts Center\n4902 Wood Lane NW\nRochester\, MN 55901 \n  \n
URL:http://www.windoverfire.com/event/julia-assante-the-last-frontier-exploring-the-afterlife-the-be-group/
LOCATION:Wind over Fire Healing Arts Center\, 4902 Wood Lane NW\, Rochester\, MN\, 55901\, United States
END:VEVENT
END:VCALENDAR