BEGIN:VCALENDAR
VERSION:2.0
PRODID:-//Wind over Fire Healing Arts Center - ECPv5.1.0//NONSGML v1.0//EN
CALSCALE:GREGORIAN
METHOD:PUBLISH
X-WR-CALNAME:Wind over Fire Healing Arts Center
X-ORIGINAL-URL:http://www.windoverfire.com
X-WR-CALDESC:Events for Wind over Fire Healing Arts Center
BEGIN:VTIMEZONE
TZID:UTC
BEGIN:STANDARD
TZOFFSETFROM:+0000
TZOFFSETTO:+0000
TZNAME:UTC
DTSTART:20130101T000000
END:STANDARD
END:VTIMEZONE
BEGIN:VEVENT
DTSTART;VALUE=DATE:20130118
DTEND;VALUE=DATE:20130119
DTSTAMP:20260419T190736
CREATED:20121221T045617Z
LAST-MODIFIED:20121221T045617Z
UID:846-1358467200-1358553599@www.windoverfire.com
SUMMARY:Jan. 18\, Craig Hartel - Shamanic Healing  (using Andean techniques) 
DESCRIPTION:Craig Hartel will be available for private sessions on Friday January 18th (and possibly Thursday January 17th depending on demand).  The sessions are based on the Peruvian Indian techniques.  The sessions are $110.00 and are 2-hour sessions. \nWhat these sessions are about: \nThe soul journeys with us from one physical lifetime to the next. It carries within it the information for emotional and physical wellness\, and also memories of past lives.  When we experience trauma\, abuse or stress of various kinds\, a portion of the soul may depart from our body\, or reality. The result may manifest as physical and/or emotional side effects. \nSoul loss is a subconscious survival reflex.  The loss occurs when the soul perceives a threat and leaves to protect itself from the traumatic experience.  When this occurs we are no longer whole. We are unable to feel our true selves. \nWhen we are working on trauma\, whether it is from this life or a past life\, we’re working at that soul level\, bringing the missing part(s) of the soul back into your being while eliminating the effect of the trauma and abuse. During a session a client may access information about themselves that was previously inaccessible. In this way you may be able to experience and live your true whole self! \nFOR MORE INFORMATION\nCall 507-281-6649\nEmail – mary@windoverfire.com \nWind Over Fire Healing Arts Center\n4902 Wood Lane NW\nRochester\, MN 55901 \n
URL:http://www.windoverfire.com/event/jan-18-craig-hartel-shamanic-healing-using-andean-techniques-2/
LOCATION:Wind over Fire Healing Arts Center
END:VEVENT
END:VCALENDAR