BEGIN:VCALENDAR
VERSION:2.0
PRODID:-//Wind over Fire Healing Arts Center - ECPv5.1.0//NONSGML v1.0//EN
CALSCALE:GREGORIAN
METHOD:PUBLISH
X-WR-CALNAME:Wind over Fire Healing Arts Center
X-ORIGINAL-URL:http://www.windoverfire.com
X-WR-CALDESC:Events for Wind over Fire Healing Arts Center
BEGIN:VTIMEZONE
TZID:UTC
BEGIN:STANDARD
TZOFFSETFROM:+0000
TZOFFSETTO:+0000
TZNAME:UTC
DTSTART:20130101T000000
END:STANDARD
END:VTIMEZONE
BEGIN:VEVENT
DTSTART;TZID=UTC:20130316T090000
DTEND;TZID=UTC:20130316T180000
DTSTAMP:20260419T132314
CREATED:20130205T033221Z
LAST-MODIFIED:20130311T145840Z
UID:1099-1363424400-1363456800@www.windoverfire.com
SUMMARY:Gary Dischler: Not-Your-Ordinary Rock and Mineral Workshop
DESCRIPTION:Gary Dischler –\nRocks and Minerals Workshop\nMarch 16th \, 9 AM-6 PM\n$75\nThis workshop will take a closer look at numerous rocks\, minerals\, gems\, and metals. Special focus will be put on how these members of “the Foundation Kingdom of Creation” can affect our physical\, mental\, emotional and spiritual selves as we grow and evolve on Earth. Emphasis will be put on healing\, developing higher awareness\, and the energetics of the stones themselves. You will have a chance to touch\, feel\, and handle these wonders of the Earth. Plenty of resources\, including reference books from Scotland and South Africa\, will be available for use to each member of the class to enhance your learning experience. There will be a chance for hands-on sensations of these materials and room for plenty of discussion. Free gifts will be given to all in attendance. \nHere is a partial list of stones\, rocks\, gems and minerals for the class: Agate\, Malachite\, Tourmaline\, Diamond\, Jasper\, Obsidian\, Citrine\, Turquoise\, Aquamarine\, Labradorite\, Amazonite\, Topaz\, Flourite\, Jade\, Chalcedony\, Moonstone\, Sugilite\, Ruby\, Amethyst\, Kyanite\, Carnelian\, Rhodochrosite\, Chrysocolla\, Aventurine\, Emerald\, Apophylite\, Amber\, Moonstone\, Sunstone\, Sodalite\, Larimar\, and numerous others. Rare stones such as Charoite\, Seraphanite\, Starouite\, and Moldavite will also be available\, as well as a number of high energy stones becoming more prevalent at this time on Earth. \nDue to the nature of this class\, we are limiting enrollment to allow for plenty of discussion and individualized learning. \nFOR MORE INFORMATION\nCall 507-281-6649\nEmail – mclaven@charter.net \nWind Over Fire Healing Arts Center\n4902 Wood Lane NW\nRochester\, MN 55901 \n
URL:http://www.windoverfire.com/event/gary-dischler-not-your-ordinary-rock-and-mineral-workshop/
ATTACH;FMTTYPE=image/jpeg:http://www.windoverfire.com/wp-content/uploads/2012/10/slider-dishler2.jpg
END:VEVENT
END:VCALENDAR